BEGIN:VCALENDAR
VERSION:2.0
PRODID:-//Eventin//Event Calendar//EN
CALSCALE:GREGORIAN
METHOD:PUBLISH
BEGIN:VEVENT
UID:25fdc5f8f77b17612e12745e183abe26@theembassylife.org
SUMMARY:Engage in the Word
DESCRIPTION:Join us every Wednesday at 7:00 PM for a powerful Word encounte
 r with Senior Pastor Kenneth K. Law. Attend in person or online\n Join Us H
 ere
LOCATION:5493 N. Coastal Hwy. Fleming\, GA 31309
DTSTAMP:20260423T180117Z
DTSTART:20261210T000000Z
DTEND:20261210T013000Z
END:VEVENT
END:VCALENDAR
