BEGIN:VCALENDAR
VERSION:2.0
PRODID:-//Eventin//Event Calendar//EN
CALSCALE:GREGORIAN
METHOD:PUBLISH
BEGIN:VEVENT
UID:41a93b84035dd61278b4d071827f6c0a@theembassylife.org
SUMMARY:Engage in the Word
DESCRIPTION:Join us every Wednesday at 7:00 PM for a powerful Word encounte
 r with Senior Pastor Kenneth K. Law. Attend in person or online\n Join Us H
 ere
LOCATION:5493 N. Coastal Hwy. Fleming\, GA 31309
DTSTAMP:20260423T192903Z
DTSTART:20261014T230000Z
DTEND:20261015T003000Z
END:VEVENT
END:VCALENDAR
