BEGIN:VCALENDAR
VERSION:2.0
PRODID:-//Eventin//Event Calendar//EN
CALSCALE:GREGORIAN
METHOD:PUBLISH
BEGIN:VEVENT
UID:eb3cb7f2646b0f4f82b35737407baf98@theembassylife.org
SUMMARY:Engage in the Word
DESCRIPTION:Join us every Wednesday at 7:00 PM for a powerful Word encounte
 r with Senior Pastor Kenneth K. Law. Attend in person or online\n Join Us H
 ere
LOCATION:5493 N. Coastal Hwy. Fleming\, GA 31309
DTSTAMP:20260423T192915Z
DTSTART:20261007T230000Z
DTEND:20261008T003000Z
END:VEVENT
END:VCALENDAR
