BEGIN:VCALENDAR
VERSION:2.0
PRODID:-//Eventin//Event Calendar//EN
CALSCALE:GREGORIAN
METHOD:PUBLISH
BEGIN:VEVENT
UID:c4a03cebeca0761726cabf5b61af0e00@theembassylife.org
SUMMARY:Engage in the Word
DESCRIPTION:Join us every Wednesday at 7:00 PM for a powerful Word encounte
 r with Senior Pastor Kenneth K. Law. Attend in person or online\n Join Us H
 ere
LOCATION:5493 N. Coastal Hwy. Fleming\, GA 31309
DTSTAMP:20260423T205926Z
DTSTART:20260916T230000Z
DTEND:20260917T003000Z
END:VEVENT
END:VCALENDAR
