BEGIN:VCALENDAR
VERSION:2.0
PRODID:-//Eventin//Event Calendar//EN
CALSCALE:GREGORIAN
METHOD:PUBLISH
BEGIN:VEVENT
UID:63923cb8689bf397c381f90c1426f5c9@theembassylife.org
SUMMARY:Engage in the Word
DESCRIPTION:Join us every Wednesday at 7:00 PM for a powerful Word encounte
 r with Senior Pastor Kenneth K. Law. Attend in person or online\n Join Us H
 ere
LOCATION:5493 N. Coastal Hwy. Fleming\, GA 31309
DTSTAMP:20260423T205228Z
DTSTART:20260729T230000Z
DTEND:20260730T003000Z
END:VEVENT
END:VCALENDAR
