BEGIN:VCALENDAR
VERSION:2.0
PRODID:-//Eventin//Event Calendar//EN
CALSCALE:GREGORIAN
METHOD:PUBLISH
BEGIN:VEVENT
UID:f66a6d590edd5a681e1cbf25cb6f5c36@theembassylife.org
SUMMARY:Sunday Worship
DESCRIPTION:Join us for powerful worship\, a life-giving Word\, and an atmo
 sphere where you can encounter God and advance the Kingdom.
LOCATION:5493 N. Coastal Hwy. Fleming\, GA 31309
DTSTAMP:20260424T031333Z
DTSTART:20261227T150000Z
DTEND:20261227T163000Z
END:VEVENT
END:VCALENDAR
