BEGIN:VCALENDAR
VERSION:2.0
PRODID:-//Eventin//Event Calendar//EN
CALSCALE:GREGORIAN
METHOD:PUBLISH
BEGIN:VEVENT
UID:234054e8fe9105a582efebfb94254712@theembassylife.org
SUMMARY:Sunday Worship
DESCRIPTION:Join us for powerful worship\, a life-giving Word\, and an atmo
 sphere where you can encounter God and advance the Kingdom.
LOCATION:5493 N. Coastal Hwy. Fleming\, GA 31309
DTSTAMP:20260424T044955Z
DTSTART:20261129T150000Z
DTEND:20261129T163000Z
END:VEVENT
END:VCALENDAR
