BEGIN:VCALENDAR
VERSION:2.0
PRODID:-//Eventin//Event Calendar//EN
CALSCALE:GREGORIAN
METHOD:PUBLISH
BEGIN:VEVENT
UID:a1c50e8bb02bfdaa7535e34d6f4956a1@theembassylife.org
SUMMARY:Sunday Worship
DESCRIPTION:Join us for powerful worship\, a life-giving Word\, and an atmo
 sphere where you can encounter God and advance the Kingdom.
LOCATION:5493 N. Coastal Hwy. Fleming\, GA 31309
DTSTAMP:20260424T044429Z
DTSTART:20261101T150000Z
DTEND:20261101T163000Z
END:VEVENT
END:VCALENDAR
