BEGIN:VCALENDAR
VERSION:2.0
PRODID:-//Eventin//Event Calendar//EN
CALSCALE:GREGORIAN
METHOD:PUBLISH
BEGIN:VEVENT
UID:9d3af2d71257f3441e55471af2bf106e@theembassylife.org
SUMMARY:Sunday Worship
DESCRIPTION:Join us for powerful worship\, a life-giving Word\, and an atmo
 sphere where you can encounter God and advance the Kingdom.
LOCATION:5493 N. Coastal Hwy. Fleming\, GA 31309
DTSTAMP:20260424T075458Z
DTSTART:20260614T140000Z
DTEND:20260614T153000Z
END:VEVENT
END:VCALENDAR
