BEGIN:VCALENDAR
VERSION:2.0
PRODID:-//Eventin//Event Calendar//EN
CALSCALE:GREGORIAN
METHOD:PUBLISH
BEGIN:VEVENT
UID:1a819c38e72c9206d8a34d3335364c9b@theembassylife.org
SUMMARY:Sunday Worship
DESCRIPTION:Join us for powerful worship\, a life-giving Word\, and an atmo
 sphere where you can encounter God and advance the Kingdom.
LOCATION:5493 N. Coastal Hwy. Fleming\, GA 31309
DTSTAMP:20260423T151553Z
DTSTART:20260517T140000Z
DTEND:20260517T153000Z
END:VEVENT
END:VCALENDAR
